BEGIN:VCALENDAR
VERSION:2.0
PRODID:-//eventon.com NONSGML v1.0//EN
BEGIN:VEVENT
UID:69e866301065a
DTSTAMP:20260422T080952
DTSTART:20151031T183000Z
DTEND:20151031T010000Z
TZID:UTC
LOCATION:Open Air Stadtmitte Stadtmitte\,  51643 Gummersbach
SUMMARY:Live in Gummersbach
DESCRIPTION: Eintritt frei\nhttps://www.lupidmusik.de/events/live-in-gummersbach/
URL:https://www.lupidmusik.de/events/live-in-gummersbach/
END:VEVENT
END:VCALENDAR