BEGIN:VCALENDAR
VERSION:2.0
PRODID:-//eventon.com NONSGML v1.0//EN
BEGIN:VEVENT
UID:69eb44bb6d036
DTSTAMP:20260424T122355
DTSTART:20170427T200000Z
DTEND:20170427T235500Z
TZID:UTC
LOCATION:PRINZENBAR Kastanienallee 20\,  20359 HAMBURG
SUMMARY:SAG MEINEN NAMEN TOUR 2017 - HAMBURG
DESCRIPTION: Tickets: 19\, 40€ VVK Tickets für die SAG MEINEN NAMEN TOUR 2017 bekommt ihr hier  / oder telefonisch unter 0531 – 310 55 310 sowie an allen bekannten Vorverkaufsstellen. &nbsp; DIE TOUR WIRD PRÄSENTIERT VON: &nbsp;\nhttps://www.lupidmusik.de/events/sag-meinen-namen-tour-2016-hamburg/
URL:https://www.lupidmusik.de/events/sag-meinen-namen-tour-2016-hamburg/
END:VEVENT
END:VCALENDAR