BEGIN:VCALENDAR
VERSION:2.0
PRODID:-//eventon.com NONSGML v1.0//EN
BEGIN:VEVENT
UID:69e80f498d64d
DTSTAMP:20260422T015905
DTSTART:20170420T200000Z
DTEND:20170420T235500Z
TZID:UTC
LOCATION:Club ZwölfZehn Paulinenstraße 45\,  70178 STUTTGART
SUMMARY:SAG MEINEN NAMEN TOUR 2017 - STUTTGART (abgesagt)
DESCRIPTION: &#8220;AND ISN&#8217;T IT IRONIC&#8230;!?&#8221; Liebe Freunde aus Stuttgart\,  diese Mitteilung hat uns Mitte letzter Woche erreicht: „Der Club Zwölfzehn bedauert sehr\,  mitteilen zu müssen\,  dass es an der bisherigen Location nicht mehr weitergehen wird. Es konnte leider keine Einigung mit dem Eigentümer erreicht werden\,  weswegen das Zwölfzehn\,  Anfang April geschlossen[..]\nhttps://www.lupidmusik.de/events/sag-meinen-namen-tour-2017-stuttgart/
URL:https://www.lupidmusik.de/events/sag-meinen-namen-tour-2017-stuttgart/
END:VEVENT
END:VCALENDAR