BEGIN:VCALENDAR
VERSION:2.0
PRODID:-//eventon.com NONSGML v1.0//EN
BEGIN:VEVENT
UID:69e677b534f3a
DTSTAMP:20260420T210005
DTSTART:20170526T180000Z
DTEND:20170526T235500Z
TZID:UTC
LOCATION:Schlossgrabenfest Innenstadt\,  64289 Darmstadt
SUMMARY:LIVE @ SCHLOSSGRABENFEST (Darmstadt)
DESCRIPTION: SCHLOSSGRABENFEST in Darmstadt Wir spielen auf der MERCK-Bühne. Die Zeit folgt noch. Infos gibt&#8217;s hier. Eintritt ist frei. &nbsp;\nhttps://www.lupidmusik.de/events/live-beim-schlossgrabenfest/
URL:https://www.lupidmusik.de/events/live-beim-schlossgrabenfest/
END:VEVENT
END:VCALENDAR