BEGIN:VCALENDAR
VERSION:2.0
PRODID:-//eventon.com NONSGML v1.0//EN
BEGIN:VEVENT
UID:69eb43ebba04b
DTSTAMP:20260424T122027
DTSTART:20181108T203000Z
DTEND:20181108T233000Z
TZID:UTC
LOCATION:Nochtwache Bernhard-Nocht-Straße 69\,  20359 Hamburg
SUMMARY:AM ENDE DES TAGES TOUR 2018 - HAMBURG
DESCRIPTION: Tickets: 20\, 50€ VVK Mit unserem Debütalbum &#8220;Am Ende des Tages&#8221; gehen wir im Herbst 2018 auf Tour! DIE TOUR WIRD PRÄSENTIERT VON:  \nhttps://www.lupidmusik.de/events/am-ende-des-tages-tour-2018-hamburg/
URL:https://www.lupidmusik.de/events/am-ende-des-tages-tour-2018-hamburg/
END:VEVENT
END:VCALENDAR